BEGIN:VCALENDAR
VERSION:2.0
PRODID:-//Heritage Hills Golf Course - Moberly, MO - ECPv6.15.20//NONSGML v1.0//EN
CALSCALE:GREGORIAN
METHOD:PUBLISH
X-ORIGINAL-URL:https://heritagehillsgolfcourse.com
X-WR-CALDESC:Events for Heritage Hills Golf Course - Moberly, MO
REFRESH-INTERVAL;VALUE=DURATION:PT1H
X-Robots-Tag:noindex
X-PUBLISHED-TTL:PT1H
BEGIN:VTIMEZONE
TZID:UTC
BEGIN:STANDARD
TZOFFSETFROM:+0000
TZOFFSETTO:+0000
TZNAME:UTC
DTSTART:20250101T000000
END:STANDARD
END:VTIMEZONE
BEGIN:VEVENT
DTSTART;TZID=UTC:20260918T130000
DTEND;TZID=UTC:20260918T190000
DTSTAMP:20260423T151711
CREATED:20250414T134106Z
LAST-MODIFIED:20260414T144400Z
UID:10000126-1789736400-1789758000@heritagehillsgolfcourse.com
SUMMARY:United Way
DESCRIPTION:
URL:https://heritagehillsgolfcourse.com/event/united-way/
LOCATION:Heritage Hills Golf Club\, 3534 State Hwy JJ\, Moberly\, Missouri\, 65270\, United States
END:VEVENT
BEGIN:VEVENT
DTSTART;TZID=UTC:20260919T080000
DTEND;TZID=UTC:20260919T153000
DTSTAMP:20260423T151711
CREATED:20250225T224004Z
LAST-MODIFIED:20260414T144413Z
UID:10000039-1789804800-1789831800@heritagehillsgolfcourse.com
SUMMARY:St. Pius Golf Tournament
DESCRIPTION:
URL:https://heritagehillsgolfcourse.com/event/st-pius-golf-tournament/
LOCATION:Heritage Hills Golf Club\, 3534 State Hwy JJ\, Moberly\, Missouri\, 65270\, United States
END:VEVENT
BEGIN:VEVENT
DTSTART;TZID=UTC:20260921T080000
DTEND;TZID=UTC:20260921T153000
DTSTAMP:20260423T151711
CREATED:20260414T144515Z
LAST-MODIFIED:20260414T144517Z
UID:10000147-1789977600-1790004600@heritagehillsgolfcourse.com
SUMMARY:CAC Girls HS Event
DESCRIPTION:
URL:https://heritagehillsgolfcourse.com/event/cac-girls-hs-event/
LOCATION:Heritage Hills Golf Club\, 3534 State Hwy JJ\, Moberly\, Missouri\, 65270\, United States
END:VEVENT
END:VCALENDAR