BEGIN:VCALENDAR
VERSION:2.0
PRODID:-//Heritage Hills Golf Course - Moberly, MO - ECPv6.15.20//NONSGML v1.0//EN
CALSCALE:GREGORIAN
METHOD:PUBLISH
X-WR-CALNAME:Heritage Hills Golf Course - Moberly, MO
X-ORIGINAL-URL:https://heritagehillsgolfcourse.com
X-WR-CALDESC:Events for Heritage Hills Golf Course - Moberly, MO
REFRESH-INTERVAL;VALUE=DURATION:PT1H
X-Robots-Tag:noindex
X-PUBLISHED-TTL:PT1H
BEGIN:VTIMEZONE
TZID:UTC
BEGIN:STANDARD
TZOFFSETFROM:+0000
TZOFFSETTO:+0000
TZNAME:UTC
DTSTART:20240101T000000
END:STANDARD
END:VTIMEZONE
BEGIN:VEVENT
DTSTART;TZID=UTC:20250826T083000
DTEND;TZID=UTC:20250826T110000
DTSTAMP:20260423T014236
CREATED:20250225T224221Z
LAST-MODIFIED:20250915T143841Z
UID:10000057-1756197000-1756206000@heritagehillsgolfcourse.com
SUMMARY:Senior League
DESCRIPTION:50 and over. \n\n\n\nMembers: $10Non-Members: $30 \n\n\n\nCall to enter: 660-269-8659
URL:https://heritagehillsgolfcourse.com/event/senior-league/2025-08-26/
LOCATION:Heritage Hills Golf Club\, 3534 State Hwy JJ\, Moberly\, Missouri\, 65270\, United States
END:VEVENT
BEGIN:VEVENT
DTSTART;TZID=UTC:20250826T173000
DTEND;TZID=UTC:20250826T200000
DTSTAMP:20260423T014236
CREATED:20250225T224332Z
LAST-MODIFIED:20250225T224333Z
UID:10000078-1756229400-1756238400@heritagehillsgolfcourse.com
SUMMARY:Ladies Night
DESCRIPTION:9 HolesClosest to Pin Contest On Course \n\n\n\nMembers: $5Non-Members: $20 \n\n\n\nCall to sign up: 660-269-8659
URL:https://heritagehillsgolfcourse.com/event/ladies-night/2025-08-26/
LOCATION:Heritage Hills Golf Club\, 3534 State Hwy JJ\, Moberly\, Missouri\, 65270\, United States
END:VEVENT
BEGIN:VEVENT
DTSTART;TZID=UTC:20250827T173000
DTEND;TZID=UTC:20250827T200000
DTSTAMP:20260423T014236
CREATED:20250225T224509Z
LAST-MODIFIED:20250915T143917Z
UID:10000099-1756315800-1756324800@heritagehillsgolfcourse.com
SUMMARY:Men's League
DESCRIPTION:Two Man ScrambleMust have your own partner \n\n\n\nMembers: $15Non-Members: $35 \n\n\n\n9 HolesWeekly Rollover Skins Pot \n\n\n\nCall to sign up: 660-269-8659
URL:https://heritagehillsgolfcourse.com/event/mens-league/2025-08-27/
LOCATION:Heritage Hills Golf Club\, 3534 State Hwy JJ\, Moberly\, Missouri\, 65270\, United States
END:VEVENT
BEGIN:VEVENT
DTSTART;TZID=UTC:20250829T173000
DTEND;TZID=UTC:20250829T200000
DTSTAMP:20260423T014236
CREATED:20250225T224638Z
LAST-MODIFIED:20250915T143924Z
UID:10000120-1756488600-1756497600@heritagehillsgolfcourse.com
SUMMARY:Friday Night Couples
DESCRIPTION:9 Holes/Shotgun StartBlind Draw for teamsDifferent format weekly \n\n\n\nMembers: $10/CoupleNon-Members: $30/Couple \n\n\n\nCall to sign up: 660-269-8659
URL:https://heritagehillsgolfcourse.com/event/friday-night-couples/2025-08-29/
LOCATION:Heritage Hills Golf Club\, 3534 State Hwy JJ\, Moberly\, Missouri\, 65270\, United States
END:VEVENT
BEGIN:VEVENT
DTSTART;TZID=UTC:20250902T083000
DTEND;TZID=UTC:20250902T110000
DTSTAMP:20260423T014236
CREATED:20250225T224221Z
LAST-MODIFIED:20250915T143841Z
UID:10000058-1756801800-1756810800@heritagehillsgolfcourse.com
SUMMARY:Senior League
DESCRIPTION:50 and over. \n\n\n\nMembers: $10Non-Members: $30 \n\n\n\nCall to enter: 660-269-8659
URL:https://heritagehillsgolfcourse.com/event/senior-league/2025-09-02/
LOCATION:Heritage Hills Golf Club\, 3534 State Hwy JJ\, Moberly\, Missouri\, 65270\, United States
END:VEVENT
BEGIN:VEVENT
DTSTART;TZID=UTC:20250902T173000
DTEND;TZID=UTC:20250902T200000
DTSTAMP:20260423T014236
CREATED:20250225T224332Z
LAST-MODIFIED:20250225T224333Z
UID:10000079-1756834200-1756843200@heritagehillsgolfcourse.com
SUMMARY:Ladies Night
DESCRIPTION:9 HolesClosest to Pin Contest On Course \n\n\n\nMembers: $5Non-Members: $20 \n\n\n\nCall to sign up: 660-269-8659
URL:https://heritagehillsgolfcourse.com/event/ladies-night/2025-09-02/
LOCATION:Heritage Hills Golf Club\, 3534 State Hwy JJ\, Moberly\, Missouri\, 65270\, United States
END:VEVENT
BEGIN:VEVENT
DTSTART;TZID=UTC:20250903T173000
DTEND;TZID=UTC:20250903T200000
DTSTAMP:20260423T014236
CREATED:20250225T224509Z
LAST-MODIFIED:20250915T143917Z
UID:10000100-1756920600-1756929600@heritagehillsgolfcourse.com
SUMMARY:Men's League
DESCRIPTION:Two Man ScrambleMust have your own partner \n\n\n\nMembers: $15Non-Members: $35 \n\n\n\n9 HolesWeekly Rollover Skins Pot \n\n\n\nCall to sign up: 660-269-8659
URL:https://heritagehillsgolfcourse.com/event/mens-league/2025-09-03/
LOCATION:Heritage Hills Golf Club\, 3534 State Hwy JJ\, Moberly\, Missouri\, 65270\, United States
END:VEVENT
BEGIN:VEVENT
DTSTART;TZID=UTC:20250905T173000
DTEND;TZID=UTC:20250905T200000
DTSTAMP:20260423T014236
CREATED:20250225T224638Z
LAST-MODIFIED:20250915T143924Z
UID:10000121-1757093400-1757102400@heritagehillsgolfcourse.com
SUMMARY:Friday Night Couples
DESCRIPTION:9 Holes/Shotgun StartBlind Draw for teamsDifferent format weekly \n\n\n\nMembers: $10/CoupleNon-Members: $30/Couple \n\n\n\nCall to sign up: 660-269-8659
URL:https://heritagehillsgolfcourse.com/event/friday-night-couples/2025-09-05/
LOCATION:Heritage Hills Golf Club\, 3534 State Hwy JJ\, Moberly\, Missouri\, 65270\, United States
END:VEVENT
BEGIN:VEVENT
DTSTART;TZID=UTC:20250906T100000
DTEND;TZID=UTC:20250906T120000
DTSTAMP:20260423T014236
CREATED:20250225T223910Z
LAST-MODIFIED:20250225T223911Z
UID:10000037-1757152800-1757160000@heritagehillsgolfcourse.com
SUMMARY:Moberly Invitational
DESCRIPTION:
URL:https://heritagehillsgolfcourse.com/event/moberly-invitational-2/
LOCATION:Heritage Hills Golf Club\, 3534 State Hwy JJ\, Moberly\, Missouri\, 65270\, United States
END:VEVENT
BEGIN:VEVENT
DTSTART;TZID=UTC:20250908T173000
DTEND;TZID=UTC:20250908T200000
DTSTAMP:20260423T014236
CREATED:20250915T143845Z
LAST-MODIFIED:20250915T143906Z
UID:10000129-1757352600-1757361600@heritagehillsgolfcourse.com
SUMMARY:Ladies Night
DESCRIPTION:9 HolesClosest to Pin Contest On Course \n\n\n\nMembers: $5Non-Members: $20 \n\n\n\nCall to sign up: 660-269-8659
URL:https://heritagehillsgolfcourse.com/event/ladies-night-2/2025-09-08/
LOCATION:Heritage Hills Golf Club\, 3534 State Hwy JJ\, Moberly\, Missouri\, 65270\, United States
END:VEVENT
BEGIN:VEVENT
DTSTART;TZID=UTC:20250912T173000
DTEND;TZID=UTC:20250912T200000
DTSTAMP:20260423T014236
CREATED:20250225T224638Z
LAST-MODIFIED:20250915T143924Z
UID:10000122-1757698200-1757707200@heritagehillsgolfcourse.com
SUMMARY:Friday Night Couples
DESCRIPTION:9 Holes/Shotgun StartBlind Draw for teamsDifferent format weekly \n\n\n\nMembers: $10/CoupleNon-Members: $30/Couple \n\n\n\nCall to sign up: 660-269-8659
URL:https://heritagehillsgolfcourse.com/event/friday-night-couples/2025-09-12/
LOCATION:Heritage Hills Golf Club\, 3534 State Hwy JJ\, Moberly\, Missouri\, 65270\, United States
END:VEVENT
BEGIN:VEVENT
DTSTART;TZID=UTC:20250913T080000
DTEND;TZID=UTC:20250913T143000
DTSTAMP:20260423T014236
CREATED:20250225T223938Z
LAST-MODIFIED:20250225T223939Z
UID:10000038-1757750400-1757773800@heritagehillsgolfcourse.com
SUMMARY:Veterans Ventures
DESCRIPTION:
URL:https://heritagehillsgolfcourse.com/event/veterans-ventures/
LOCATION:Heritage Hills Golf Club\, 3534 State Hwy JJ\, Moberly\, Missouri\, 65270\, United States
END:VEVENT
BEGIN:VEVENT
DTSTART;TZID=UTC:20250927T073000
DTEND;TZID=UTC:20250927T143000
DTSTAMP:20260423T014236
CREATED:20250225T224035Z
LAST-MODIFIED:20250225T224036Z
UID:10000040-1758958200-1758983400@heritagehillsgolfcourse.com
SUMMARY:Orscheln Tournament
DESCRIPTION:
URL:https://heritagehillsgolfcourse.com/event/orscheln-tournament/
LOCATION:Heritage Hills Golf Club\, 3534 State Hwy JJ\, Moberly\, Missouri\, 65270\, United States
END:VEVENT
BEGIN:VEVENT
DTSTART;TZID=UTC:20260327T140000
DTEND;TZID=UTC:20260327T170000
DTSTAMP:20260423T014236
CREATED:20250225T221724Z
LAST-MODIFIED:20260414T141651Z
UID:10000130-1774620000-1774630800@heritagehillsgolfcourse.com
SUMMARY:Westran HS Boys Match
DESCRIPTION:
URL:https://heritagehillsgolfcourse.com/event/westran-hs-boys-match/2026-03-27/
LOCATION:Heritage Hills Golf Club\, 3534 State Hwy JJ\, Moberly\, Missouri\, 65270\, United States
END:VEVENT
BEGIN:VEVENT
DTSTART;TZID=UTC:20260331T143000
DTEND;TZID=UTC:20260331T170000
DTSTAMP:20260423T014236
CREATED:20250225T222040Z
LAST-MODIFIED:20260414T142517Z
UID:10000136-1774967400-1774976400@heritagehillsgolfcourse.com
SUMMARY:Moberly HS Boys Match
DESCRIPTION:
URL:https://heritagehillsgolfcourse.com/event/moberly-hs-boys-match/2026-03-31/
LOCATION:Missouri
END:VEVENT
BEGIN:VEVENT
DTSTART;TZID=UTC:20260402T143000
DTEND;TZID=UTC:20260402T170000
DTSTAMP:20260423T014236
CREATED:20250225T222040Z
LAST-MODIFIED:20260414T142517Z
UID:10000137-1775140200-1775149200@heritagehillsgolfcourse.com
SUMMARY:Moberly HS Boys Match
DESCRIPTION:
URL:https://heritagehillsgolfcourse.com/event/moberly-hs-boys-match/2026-04-02/
LOCATION:Missouri
END:VEVENT
BEGIN:VEVENT
DTSTART;TZID=UTC:20260407T143000
DTEND;TZID=UTC:20260407T180000
DTSTAMP:20260423T014236
CREATED:20250225T221724Z
LAST-MODIFIED:20260414T141651Z
UID:10000131-1775572200-1775584800@heritagehillsgolfcourse.com
SUMMARY:Westran HS Boys Match
DESCRIPTION:
URL:https://heritagehillsgolfcourse.com/event/westran-hs-boys-match/2026-04-07/
LOCATION:Heritage Hills Golf Club\, 3534 State Hwy JJ\, Moberly\, Missouri\, 65270\, United States
END:VEVENT
BEGIN:VEVENT
DTSTART;TZID=UTC:20260414T090000
DTEND;TZID=UTC:20260414T153000
DTSTAMP:20260423T014236
CREATED:20250225T222040Z
LAST-MODIFIED:20260414T142517Z
UID:10000138-1776157200-1776180600@heritagehillsgolfcourse.com
SUMMARY:Moberly HS Boys Match
DESCRIPTION:
URL:https://heritagehillsgolfcourse.com/event/moberly-hs-boys-match/2026-04-14/
LOCATION:Missouri
END:VEVENT
BEGIN:VEVENT
DTSTART;TZID=UTC:20260422T080000
DTEND;TZID=UTC:20260422T153000
DTSTAMP:20260423T014236
CREATED:20260414T142920Z
LAST-MODIFIED:20260414T142922Z
UID:10000140-1776844800-1776871800@heritagehillsgolfcourse.com
SUMMARY:Cairo HS Conference
DESCRIPTION:
URL:https://heritagehillsgolfcourse.com/event/cairo-hs-conference/
LOCATION:Heritage Hills Golf Club\, 3534 State Hwy JJ\, Moberly\, Missouri\, 65270\, United States
END:VEVENT
BEGIN:VEVENT
DTSTART;TZID=UTC:20260423T090000
DTEND;TZID=UTC:20260423T153000
DTSTAMP:20260423T014236
CREATED:20250225T221724Z
LAST-MODIFIED:20260414T141651Z
UID:10000132-1776934800-1776958200@heritagehillsgolfcourse.com
SUMMARY:Westran HS Boys Match
DESCRIPTION:
URL:https://heritagehillsgolfcourse.com/event/westran-hs-boys-match/2026-04-23/
LOCATION:Heritage Hills Golf Club\, 3534 State Hwy JJ\, Moberly\, Missouri\, 65270\, United States
END:VEVENT
BEGIN:VEVENT
DTSTART;TZID=UTC:20260424T143000
DTEND;TZID=UTC:20260424T170000
DTSTAMP:20260423T014236
CREATED:20250225T222040Z
LAST-MODIFIED:20260414T142517Z
UID:10000139-1777041000-1777050000@heritagehillsgolfcourse.com
SUMMARY:Moberly HS Boys Match
DESCRIPTION:
URL:https://heritagehillsgolfcourse.com/event/moberly-hs-boys-match/2026-04-24/
LOCATION:Missouri
END:VEVENT
BEGIN:VEVENT
DTSTART;TZID=UTC:20260427T143000
DTEND;TZID=UTC:20260427T170000
DTSTAMP:20260423T014236
CREATED:20250225T221724Z
LAST-MODIFIED:20260414T141651Z
UID:10000133-1777300200-1777309200@heritagehillsgolfcourse.com
SUMMARY:Westran HS Boys Match
DESCRIPTION:
URL:https://heritagehillsgolfcourse.com/event/westran-hs-boys-match/2026-04-27/
LOCATION:Heritage Hills Golf Club\, 3534 State Hwy JJ\, Moberly\, Missouri\, 65270\, United States
END:VEVENT
BEGIN:VEVENT
DTSTART;TZID=UTC:20260430T143000
DTEND;TZID=UTC:20260430T170000
DTSTAMP:20260423T014236
CREATED:20250225T221724Z
LAST-MODIFIED:20260414T141651Z
UID:10000134-1777559400-1777568400@heritagehillsgolfcourse.com
SUMMARY:Westran HS Boys Match
DESCRIPTION:
URL:https://heritagehillsgolfcourse.com/event/westran-hs-boys-match/2026-04-30/
LOCATION:Heritage Hills Golf Club\, 3534 State Hwy JJ\, Moberly\, Missouri\, 65270\, United States
END:VEVENT
BEGIN:VEVENT
DTSTART;TZID=UTC:20260501T143000
DTEND;TZID=UTC:20260501T170000
DTSTAMP:20260423T014236
CREATED:20250225T221724Z
LAST-MODIFIED:20260414T141651Z
UID:10000135-1777645800-1777654800@heritagehillsgolfcourse.com
SUMMARY:Westran HS Boys Match
DESCRIPTION:
URL:https://heritagehillsgolfcourse.com/event/westran-hs-boys-match/2026-05-01/
LOCATION:Heritage Hills Golf Club\, 3534 State Hwy JJ\, Moberly\, Missouri\, 65270\, United States
END:VEVENT
BEGIN:VEVENT
DTSTART;TZID=UTC:20260502T080000
DTEND;TZID=UTC:20260502T143000
DTSTAMP:20260423T014236
CREATED:20250225T222409Z
LAST-MODIFIED:20260414T142749Z
UID:10000018-1777708800-1777732200@heritagehillsgolfcourse.com
SUMMARY:Moberly JROTC Booster Club
DESCRIPTION:
URL:https://heritagehillsgolfcourse.com/event/moberly-hs-district-tournament/
LOCATION:Heritage Hills Golf Club\, 3534 State Hwy JJ\, Moberly\, Missouri\, 65270\, United States
END:VEVENT
BEGIN:VEVENT
DTSTART;TZID=UTC:20260505T080000
DTEND;TZID=UTC:20260505T110000
DTSTAMP:20260423T014236
CREATED:20260414T173705Z
LAST-MODIFIED:20260414T173735Z
UID:10000059-1777968000-1777978800@heritagehillsgolfcourse.com
SUMMARY:Senior League
DESCRIPTION:50 and over. \n\n\n\nMembers: $10Non-Members: $30 \n\n\n\nCall to enter: 660-269-8659
URL:https://heritagehillsgolfcourse.com/event/senior-league-2/
LOCATION:Heritage Hills Golf Club\, 3534 State Hwy JJ\, Moberly\, Missouri\, 65270\, United States
END:VEVENT
BEGIN:VEVENT
DTSTART;TZID=UTC:20260505T173000
DTEND;TZID=UTC:20260505T200000
DTSTAMP:20260423T014236
CREATED:20260414T173757Z
LAST-MODIFIED:20260414T173803Z
UID:10000080-1778002200-1778011200@heritagehillsgolfcourse.com
SUMMARY:Ladies Night
DESCRIPTION:9 HolesClosest to Pin Contest On Course \n\n\n\nMembers: $5Non-Members: $30 \n\n\n\nCall to sign up: 660-269-8659
URL:https://heritagehillsgolfcourse.com/event/ladies-night-3/
LOCATION:Heritage Hills Golf Club\, 3534 State Hwy JJ\, Moberly\, Missouri\, 65270\, United States
END:VEVENT
BEGIN:VEVENT
DTSTART;TZID=UTC:20260506T173000
DTEND;TZID=UTC:20260506T200000
DTSTAMP:20260423T014236
CREATED:20260414T173814Z
LAST-MODIFIED:20260414T173820Z
UID:10000101-1778088600-1778097600@heritagehillsgolfcourse.com
SUMMARY:Men's League
DESCRIPTION:Two Man ScrambleMust have your own partner \n\n\n\nMembers: $15Non-Members: $40 \n\n\n\n9 HolesWeekly Rollover Skins Pot \n\n\n\nCall to sign up: 660-269-8659
URL:https://heritagehillsgolfcourse.com/event/mens-league-2/
LOCATION:Heritage Hills Golf Club\, 3534 State Hwy JJ\, Moberly\, Missouri\, 65270\, United States
END:VEVENT
BEGIN:VEVENT
DTSTART;TZID=UTC:20260507T080000
DTEND;TZID=UTC:20260507T163000
DTSTAMP:20260423T014236
CREATED:20250225T222332Z
LAST-MODIFIED:20260414T142806Z
UID:10000017-1778140800-1778171400@heritagehillsgolfcourse.com
SUMMARY:Westran HS Districts Tournament
DESCRIPTION:
URL:https://heritagehillsgolfcourse.com/event/westran-hs-districts-tournament/
LOCATION:Heritage Hills Golf Club\, 3534 State Hwy JJ\, Moberly\, Missouri\, 65270\, United States
END:VEVENT
BEGIN:VEVENT
DTSTART;TZID=UTC:20260529T090000
DTEND;TZID=UTC:20260529T120000
DTSTAMP:20260423T014236
CREATED:20250225T222455Z
LAST-MODIFIED:20260414T143056Z
UID:10000019-1780045200-1780056000@heritagehillsgolfcourse.com
SUMMARY:NES Super Tournament
DESCRIPTION:
URL:https://heritagehillsgolfcourse.com/event/nes-super-tournament/
LOCATION:Heritage Hills Golf Club\, 3534 State Hwy JJ\, Moberly\, Missouri\, 65270\, United States
END:VEVENT
END:VCALENDAR